BEGIN:VCALENDAR
VERSION:2.0
PRODID:-//MJ Dispensary - ECPv6.15.20//NONSGML v1.0//EN
CALSCALE:GREGORIAN
METHOD:PUBLISH
X-WR-CALNAME:MJ Dispensary
X-ORIGINAL-URL:https://mjdispensary585.com
X-WR-CALDESC:Events for MJ Dispensary
REFRESH-INTERVAL;VALUE=DURATION:PT1H
X-Robots-Tag:noindex
X-PUBLISHED-TTL:PT1H
BEGIN:VTIMEZONE
TZID:America/New_York
BEGIN:DAYLIGHT
TZOFFSETFROM:-0500
TZOFFSETTO:-0400
TZNAME:EDT
DTSTART:20250309T070000
END:DAYLIGHT
BEGIN:STANDARD
TZOFFSETFROM:-0400
TZOFFSETTO:-0500
TZNAME:EST
DTSTART:20251102T060000
END:STANDARD
BEGIN:DAYLIGHT
TZOFFSETFROM:-0500
TZOFFSETTO:-0400
TZNAME:EDT
DTSTART:20260308T070000
END:DAYLIGHT
BEGIN:STANDARD
TZOFFSETFROM:-0400
TZOFFSETTO:-0500
TZNAME:EST
DTSTART:20261101T060000
END:STANDARD
BEGIN:DAYLIGHT
TZOFFSETFROM:-0500
TZOFFSETTO:-0400
TZNAME:EDT
DTSTART:20270314T070000
END:DAYLIGHT
BEGIN:STANDARD
TZOFFSETFROM:-0400
TZOFFSETTO:-0500
TZNAME:EST
DTSTART:20271107T060000
END:STANDARD
END:VTIMEZONE
BEGIN:VEVENT
DTSTART;TZID=America/New_York:20260424T160000
DTEND;TZID=America/New_York:20260424T190000
DTSTAMP:20260419T211046
CREATED:20260415T153131Z
LAST-MODIFIED:20260415T154109Z
UID:3894-1777046400-1777057200@mjdispensary585.com
SUMMARY:The Encore: NoWave Returns to MJ Dispensary
DESCRIPTION:Rochester\, we can’t get enough of the local vibes\, and apparently\, neither can you! Because the response to our first session was so incredible\, we are thrilled to announce our second NoWave pop-up of the month. On April 24th\, we are bringing the team back to MJ Dispensary to keep the momentum going and dive deeper into one of the most talked-about products in the city: Off-Hours vapes. \nNoWave is a hometown pioneer\, operating their state-of-the-art facility right here in Rochester. They’ve built a reputation for merging cutting-edge science with the soul of the “Flower City\,” and this evening event is the perfect chance to see what they’ve been working on lately. \n💨 Discover the Precision of Off-Hours Vapes\nIf you are looking for a portable\, discreet\, and high-quality experience\, you’ve likely heard the buzz surrounding Off-Hours vapes. These aren’t your standard cartridges; they are meticulously engineered to deliver a consistent\, flavor-forward experience that mirrors the complexity of the actual plant. \nDuring this second-chance pop-up\, the NoWave experts will be showcasing: \n\n\nNano-Tech Innovation: Learn about the science behind the hardware and oil that makes Off-Hours vapes stand out for their smooth delivery and potency. \n\n\nTerpene-Rich Profiles: Explore the specific strain inspirations that define the Off-Hours line. From bright sativas to deep\, relaxing indicas\, find the profile that matches your “off-hours” lifestyle. \n\n\nThe Luci Connection: In addition to vapes\, get a closer look at their premium Luci line\, known for high-end concentrates and top-tier craftsmanship. \n\n\n🎨 Local Roots & Limited-Edition Swag\nThere’s something special about supporting a brand that is truly “Rochester Grown.” NoWave has grown into a leader in the New York market without ever losing sight of their community roots. \nWhether you missed the first event or you’re a superfan looking to add to your collection\, stop by and talk shop with the creators behind the products. It’s the ultimate way to represent the local cannabis culture in style. \n📍 Join Us for the April 24th Takeover\nFinish your workday and head over to MJ Dispensary to catch the NoWave crew before they head back to the lab. We provide a safe\, legal\, and educational space for all adults 21+ to discover the best of the local industry. \n\n\nDate: April 24th \n\n\nTime: 4:00 PM – 7:00 PM \n\n\nLocation: MJ Dispensary\, Rochester NY \n\n\nFeatured Brand: NoWave (Off-Hours & Luci) \n\n\nOur budtenders will be on-site to help you navigate our full menu and ensure you find the exact Off-Hours vapes or edibles that fit your routine. 🛍️ \n📈 Why Rochester Chooses NoWave\nBy choosing Off-Hours vapes\, you are supporting a GMP-certified local processor that prioritizes safety\, transparency\, and quality above all else. We love hosting NoWave because they represent the very best of what our city has to offer: innovation\, integrity\, and incredible products. 🙌 \n💨 Don’t Miss the Final April Session!\nDon’t let the month slip by without connecting with one of the most influential brands in Western New York. Come for the education\, stay for the swag\, and leave with a new appreciation for the science of Off-Hours vapes. \nPlease remember to bring a valid ID (21+). We’ll see you on the 24th for another unforgettable local showcase! 👋
URL:https://mjdispensary585.com/event/the-encore-nowave-returns-to-mj-dispensary/
LOCATION:MJ Dispensary\, 900 Jefferson Rd. Suite 902\, Rochester\, NY\, 14623\, United States
CATEGORIES:Pop-Up Events
ATTACH;FMTTYPE=image/jpeg:https://mjdispensary585.com/wp-content/uploads/2025/08/Nowave-logo-2-1536x1536-1.jpg
ORGANIZER;CN="MJ Dispensary":MAILTO:mjdispensary585@gmail.com
END:VEVENT
END:VCALENDAR